0.500000
0.000000
0.000000
-0.500000
2864400.250000
406395.250000
