0.500000
0.000000
0.000000
-0.500000
2874834.750000
414724.250000
