0.500000
0.000000
0.000000
-0.500000
2877474.250000
414839.250000
