0.500000
0.000000
0.000000
-0.500000
2893310.250000
415396.750000
