0.500000
0.000000
0.000000
-0.500000
2890489.750000
420494.750000
