0.500000
0.000000
0.000000
-0.500000
2882672.250000
417682.750000
