0.500000
0.000000
0.000000
-0.500000
2882579.750000
420342.750000
