0.500000
0.000000
0.000000
-0.500000
2877384.750000
417495.250000
