0.500000
0.000000
0.000000
-0.500000
2877295.750000
420150.750000
