0.500000
0.000000
0.000000
-0.500000
2869376.250000
419801.750000
