0.500000
0.000000
0.000000
-0.500000
2869449.750000
417159.250000
