0.500000
0.000000
0.000000
-0.500000
2866803.750000
417045.250000
