0.500000
0.000000
0.000000
-0.500000
2866726.750000
419664.750000
