0.500000
0.000000
0.000000
-0.500000
2863477.750000
424900.750000
