0.500000
0.000000
0.000000
-0.500000
2866654.750000
422306.750000
