0.500000
0.000000
0.000000
-0.500000
2869248.750000
425092.250000
