0.500000
0.000000
0.000000
-0.500000
2874567.250000
422693.750000
