0.500000
0.000000
0.000000
-0.500000
2877204.250000
422800.750000
