0.500000
0.000000
0.000000
-0.500000
2879752.250000
425544.750000
