0.500000
0.000000
0.000000
-0.500000
2882491.750000
422991.250000
