0.500000
0.000000
0.000000
-0.500000
2890374.750000
423159.250000
