0.500000
0.000000
0.000000
-0.500000
2890154.250000
428461.250000
