0.500000
0.000000
0.000000
-0.500000
2892744.250000
428554.250000
