0.500000
0.000000
0.000000
-0.500000
2879593.750000
430838.750000
