0.500000
0.000000
0.000000
-0.500000
2874399.250000
427986.250000
