0.500000
0.000000
0.000000
-0.500000
2877036.250000
428097.250000
