0.500000
0.000000
0.000000
-0.500000
2876959.250000
430744.250000
