0.500000
0.000000
0.000000
-0.500000
2863093.250000
432839.250000
