0.500000
0.000000
0.000000
-0.500000
2871639.250000
433117.750000
