0.500000
0.000000
0.000000
-0.500000
2874170.750000
435815.250000
