0.500000
0.000000
0.000000
-0.500000
2879494.250000
433484.750000
