0.500000
0.000000
0.000000
-0.500000
2898794.250000
410368.250000
