0.500000
0.000000
0.000000
-0.500000
2896046.750000
412864.250000
