0.500000
0.000000
0.000000
-0.500000
2903604.750000
415957.750000
