0.500000
0.000000
0.000000
-0.500000
2900309.250000
431611.250000
