0.500000
0.000000
0.000000
-0.500000
2895120.750000
436766.750000
