0.500000
0.000000
0.000000
-0.500000
2900061.750000
437053.750000
