0.500000
0.000000
0.000000
-0.500000
2923809.750000
438352.250000
