0.500000
0.000000
0.000000
-0.500000
2926831.250000
427993.750000
