0.500000
0.000000
0.000000
-0.500000
2926652.250000
433239.250000
