0.500000
0.000000
0.000000
-0.500000
2929286.750000
433385.750000
