0.500000
0.000000
0.000000
-0.500000
2926556.250000
435858.750000
