0.500000
0.000000
0.000000
-0.500000
2931669.750000
438768.750000
