0.500000
0.000000
0.000000
-0.500000
2855097.250000
376799.250000
