0.500000
0.000000
0.000000
-0.500000
2854974.250000
379451.750000
