0.500000
0.000000
0.000000
-0.500000
2860259.750000
379734.250000
