0.500000
0.000000
0.000000
-0.500000
2862911.250000
379875.250000
