0.500000
0.000000
0.000000
-0.500000
2859878.250000
387677.250000
