0.500000
0.000000
0.000000
-0.500000
2854731.250000
384753.250000
