0.500000
0.000000
0.000000
-0.500000
2859359.750000
400894.250000
